BEGIN:VCALENDAR
VERSION:2.0
PRODID:-//Athletics Fiji - ECPv6.15.20//NONSGML v1.0//EN
CALSCALE:GREGORIAN
METHOD:PUBLISH
X-ORIGINAL-URL:https://athleticsfiji.com
X-WR-CALDESC:Events for Athletics Fiji
REFRESH-INTERVAL;VALUE=DURATION:PT1H
X-Robots-Tag:noindex
X-PUBLISHED-TTL:PT1H
BEGIN:VTIMEZONE
TZID:UTC
BEGIN:STANDARD
TZOFFSETFROM:+0000
TZOFFSETTO:+0000
TZNAME:UTC
DTSTART:20210101T000000
END:STANDARD
END:VTIMEZONE
BEGIN:VEVENT
DTSTART;VALUE=DATE:20220205
DTEND;VALUE=DATE:20220206
DTSTAMP:20260424T161048
CREATED:20220105T014842Z
LAST-MODIFIED:20220105T014842Z
UID:10113-1644019200-1644105599@athleticsfiji.com
SUMMARY:Pacific Mini Games & Commonwealth Games Trials #1
DESCRIPTION:Details TBC
URL:https://athleticsfiji.com/event/pacific-mini-games-commonwealth-games-trials-1/
LOCATION:ANZ National Stadium\, Laucala Bay\, Suva\, Fiji
CATEGORIES:Local Competition
ATTACH;FMTTYPE=image/jpeg:https://athleticsfiji.com/wp-content/uploads/2021/02/136421769_1587167311672324_3835440017489583726_o.jpg
ORGANIZER;CN="Athletics Fiji":MAILTO:athleticsfiji@connect.com
END:VEVENT
BEGIN:VEVENT
DTSTART;VALUE=DATE:20220212
DTEND;VALUE=DATE:20220213
DTSTAMP:20260424T161048
CREATED:20220105T015137Z
LAST-MODIFIED:20220105T015137Z
UID:10117-1644624000-1644710399@athleticsfiji.com
SUMMARY:Grand Prix Round I
DESCRIPTION:Details TBC
URL:https://athleticsfiji.com/event/grand-prix-round-i/
LOCATION:ANZ National Stadium\, Laucala Bay\, Suva\, Fiji
CATEGORIES:Local Competition
ATTACH;FMTTYPE=image/jpeg:https://athleticsfiji.com/wp-content/uploads/2020/09/DSC_7052.jpg
ORGANIZER;CN="Athletics Fiji":MAILTO:athleticsfiji@connect.com
END:VEVENT
BEGIN:VEVENT
DTSTART;VALUE=DATE:20220219
DTEND;VALUE=DATE:20220220
DTSTAMP:20260424T161048
CREATED:20220105T015257Z
LAST-MODIFIED:20220105T015257Z
UID:10119-1645228800-1645315199@athleticsfiji.com
SUMMARY:Grand Prix Round II
DESCRIPTION:Details TBC
URL:https://athleticsfiji.com/event/grand-prix-round-ii/
LOCATION:ANZ National Stadium\, Laucala Bay\, Suva\, Fiji
CATEGORIES:Local Competition
ATTACH;FMTTYPE=image/jpeg:https://athleticsfiji.com/wp-content/uploads/2021/01/137034527_1587167351672320_6519124754217653965_o.jpg
ORGANIZER;CN="Athletics Fiji":MAILTO:athleticsfiji@connect.com
END:VEVENT
BEGIN:VEVENT
DTSTART;VALUE=DATE:20220226
DTEND;VALUE=DATE:20220227
DTSTAMP:20260424T161048
CREATED:20220105T015418Z
LAST-MODIFIED:20220105T015428Z
UID:10121-1645833600-1645919999@athleticsfiji.com
SUMMARY:Grand Prix Round III (Final)
DESCRIPTION:Details TBC
URL:https://athleticsfiji.com/event/grand-prix-round-iii-final/
LOCATION:ANZ National Stadium\, Laucala Bay\, Suva\, Fiji
CATEGORIES:Local Competition
ATTACH;FMTTYPE=image/jpeg:https://athleticsfiji.com/wp-content/uploads/2021/04/DSC_51131.jpg
ORGANIZER;CN="Athletics Fiji":MAILTO:athleticsfiji@connect.com
END:VEVENT
END:VCALENDAR