BEGIN:VCALENDAR
VERSION:2.0
PRODID:-//Athletics Fiji - ECPv6.15.20//NONSGML v1.0//EN
CALSCALE:GREGORIAN
METHOD:PUBLISH
X-WR-CALNAME:Athletics Fiji
X-ORIGINAL-URL:https://athleticsfiji.com
X-WR-CALDESC:Events for Athletics Fiji
REFRESH-INTERVAL;VALUE=DURATION:PT1H
X-Robots-Tag:noindex
X-PUBLISHED-TTL:PT1H
BEGIN:VTIMEZONE
TZID:UTC
BEGIN:STANDARD
TZOFFSETFROM:+0000
TZOFFSETTO:+0000
TZNAME:UTC
DTSTART:20210101T000000
END:STANDARD
END:VTIMEZONE
BEGIN:VEVENT
DTSTART;VALUE=DATE:20220108
DTEND;VALUE=DATE:20220109
DTSTAMP:20260424T142855
CREATED:20220105T012949Z
LAST-MODIFIED:20220105T013917Z
UID:10106-1641600000-1641686399@athleticsfiji.com
SUMMARY:Coaching Clinic / Competition Talent Identification PMG
DESCRIPTION:Details TBC
URL:https://athleticsfiji.com/event/coaching-clinic-competition-talent-identification-pmg/
LOCATION:ANZ National Stadium\, Laucala Bay\, Suva\, Fiji
CATEGORIES:Workshops/Clinics
ATTACH;FMTTYPE=image/jpeg:https://athleticsfiji.com/wp-content/uploads/2021/02/136455194_1587167001672355_8305792033910588628_o-1.jpg
ORGANIZER;CN="Athletics Fiji":MAILTO:athleticsfiji@connect.com
END:VEVENT
BEGIN:VEVENT
DTSTART;VALUE=DATE:20220115
DTEND;VALUE=DATE:20220116
DTSTAMP:20260424T142855
CREATED:20220105T014101Z
LAST-MODIFIED:20220105T014101Z
UID:10108-1642204800-1642291199@athleticsfiji.com
SUMMARY:Weekly Competition - Pacific Mini Games Squad
DESCRIPTION:Details TBC
URL:https://athleticsfiji.com/event/weekly-competition-pacific-mini-games-squad/
LOCATION:ANZ National Stadium\, Laucala Bay\, Suva\, Fiji
CATEGORIES:Local Competition
ATTACH;FMTTYPE=image/jpeg:https://athleticsfiji.com/wp-content/uploads/2021/04/168851980_1652976928424695_4878579926148467660_n.jpg
ORGANIZER;CN="Athletics Fiji":MAILTO:athleticsfiji@connect.com
END:VEVENT
BEGIN:VEVENT
DTSTART;VALUE=DATE:20220122
DTEND;VALUE=DATE:20220123
DTSTAMP:20260424T142855
CREATED:20220105T014431Z
LAST-MODIFIED:20220105T014431Z
UID:10111-1642809600-1642895999@athleticsfiji.com
SUMMARY:Weekly Competition - Pacific Mini Games Squad
DESCRIPTION:Details TBC
URL:https://athleticsfiji.com/event/weekly-competition-pacific-mini-games-squad-2/
LOCATION:ANZ National Stadium\, Laucala Bay\, Suva\, Fiji
CATEGORIES:Local Competition
ATTACH;FMTTYPE=image/jpeg:https://athleticsfiji.com/wp-content/uploads/2021/03/IMG_0798.jpg
ORGANIZER;CN="Athletics Fiji":MAILTO:athleticsfiji@connect.com
END:VEVENT
END:VCALENDAR