BEGIN:VCALENDAR
VERSION:2.0
PRODID:-//Athletics Fiji - ECPv6.15.20//NONSGML v1.0//EN
CALSCALE:GREGORIAN
METHOD:PUBLISH
X-ORIGINAL-URL:https://athleticsfiji.com
X-WR-CALDESC:Events for Athletics Fiji
REFRESH-INTERVAL;VALUE=DURATION:PT1H
X-Robots-Tag:noindex
X-PUBLISHED-TTL:PT1H
BEGIN:VTIMEZONE
TZID:UTC
BEGIN:STANDARD
TZOFFSETFROM:+0000
TZOFFSETTO:+0000
TZNAME:UTC
DTSTART:20180101T000000
END:STANDARD
END:VTIMEZONE
BEGIN:VEVENT
DTSTART;TZID=UTC:20190405T170000
DTEND;TZID=UTC:20190406T180000
DTSTAMP:20260424T125114
CREATED:20180524T002140Z
LAST-MODIFIED:20180927T013836Z
UID:2795-1554483600-1554573600@athleticsfiji.com
SUMMARY:Easter National Championships - 2019 SPG Final Trials
DESCRIPTION:Details TBC
URL:https://athleticsfiji.com/event/easter-national-championships/
LOCATION:ANZ National Stadium\, Laucala Bay\, Suva\, Fiji
ATTACH;FMTTYPE=image/jpeg:https://athleticsfiji.com/wp-content/uploads/2017/09/21231175_625134054542326_5156977138296394387_n.jpg
ORGANIZER;CN="Athletics Fiji":MAILTO:athleticsfiji@connect.com
END:VEVENT
BEGIN:VEVENT
DTSTART;TZID=UTC:20190416T080000
DTEND;TZID=UTC:20190418T170000
DTSTAMP:20260424T125114
CREATED:20180524T002322Z
LAST-MODIFIED:20190114T204155Z
UID:2797-1555401600-1555606800@athleticsfiji.com
SUMMARY:Coca Cola Games
DESCRIPTION:Details TBC
URL:https://athleticsfiji.com/event/coca-cola-games/
LOCATION:ANZ National Stadium\, Laucala Bay\, Suva\, Fiji
ATTACH;FMTTYPE=image/jpeg:https://athleticsfiji.com/wp-content/uploads/2018/04/Overall-Winner-Boys-Division.jpg
END:VEVENT
BEGIN:VEVENT
DTSTART;TZID=UTC:20190420T080000
DTEND;TZID=UTC:20190420T170000
DTSTAMP:20260424T125114
CREATED:20190114T204539Z
LAST-MODIFIED:20190412T032326Z
UID:4003-1555747200-1555779600@athleticsfiji.com
SUMMARY:2019 Fiji Games
DESCRIPTION:Details TBC
URL:https://athleticsfiji.com/event/2019-fiji-games/
LOCATION:ANZ National Stadium\, Laucala Bay\, Suva\, Fiji
ATTACH;FMTTYPE=image/jpeg:https://athleticsfiji.com/wp-content/uploads/2017/09/21430241_628898984165833_8888151415668465829_n.jpg
END:VEVENT
END:VCALENDAR