BEGIN:VCALENDAR
VERSION:2.0
PRODID:-//Athletics Fiji - ECPv6.15.20//NONSGML v1.0//EN
CALSCALE:GREGORIAN
METHOD:PUBLISH
X-WR-CALNAME:Athletics Fiji
X-ORIGINAL-URL:https://athleticsfiji.com
X-WR-CALDESC:Events for Athletics Fiji
REFRESH-INTERVAL;VALUE=DURATION:PT1H
X-Robots-Tag:noindex
X-PUBLISHED-TTL:PT1H
BEGIN:VTIMEZONE
TZID:UTC
BEGIN:STANDARD
TZOFFSETFROM:+0000
TZOFFSETTO:+0000
TZNAME:UTC
DTSTART:20160101T000000
END:STANDARD
END:VTIMEZONE
BEGIN:VEVENT
DTSTART;TZID=UTC:20171110T080000
DTEND;TZID=UTC:20171111T170000
DTSTAMP:20260423T014512
CREATED:20170725T231433Z
LAST-MODIFIED:20170725T231433Z
UID:821-1510300800-1510419600@athleticsfiji.com
SUMMARY:2017 Northern Divisional FMF Chow Games
DESCRIPTION:[maxbutton id="8" ] Grand Prix Events 100m\, 400m\, 800m\, 5000m\, Long Jump\, High Jump and Shot Put Grand Prix Grades Open Men/Open Women Points According to IAAF Scoring Table Prize Money Overall Points from Round 1\,2 and Finals: 1st $ 200 2nd $ 150 3rd $100 4th $ 50 5th $ 25 IT IS COMPULSORY … Continue reading Athletics Fiji Grand Prix Series – Round 2 →
URL:https://athleticsfiji.com/event/2017-northern-divisional-fmf-chow-games/
LOCATION:Subrail Park\, Labasa\, Fiji
END:VEVENT
BEGIN:VEVENT
DTSTART;TZID=UTC:20171104T110000
DTEND;TZID=UTC:20171104T160000
DTSTAMP:20260423T014512
CREATED:20170926T210533Z
LAST-MODIFIED:20171031T053002Z
UID:2000-1509793200-1509811200@athleticsfiji.com
SUMMARY:Team Fiji Weekly Competition
DESCRIPTION:[maxbutton id="8" ] Grand Prix Events 100m\, 400m\, 800m\, 5000m\, Long Jump\, High Jump and Shot Put Grand Prix Grades Open Men/Open Women Points According to IAAF Scoring Table Prize Money Overall Points from Round 1\,2 and Finals: 1st $ 200 2nd $ 150 3rd $100 4th $ 50 5th $ 25 IT IS COMPULSORY … Continue reading Athletics Fiji Grand Prix Series – Round 2 →
URL:https://athleticsfiji.com/event/team-fiji-weekly-competition/
LOCATION:Churchill Park\, Lautoka\, Fiji
ATTACH;FMTTYPE=image/jpeg:https://athleticsfiji.com/wp-content/uploads/2017/09/Lautoka-Track.jpg
ORGANIZER;CN="Athletics Fiji":MAILTO:athleticsfiji@connect.com
END:VEVENT
BEGIN:VEVENT
DTSTART;TZID=UTC:20171104T070000
DTEND;TZID=UTC:20171104T080000
DTSTAMP:20260423T014512
CREATED:20170725T232326Z
LAST-MODIFIED:20170725T232326Z
UID:830-1509778800-1509782400@athleticsfiji.com
SUMMARY:Suva Color Run
DESCRIPTION:[maxbutton id="8" ] Grand Prix Events 100m\, 400m\, 800m\, 5000m\, Long Jump\, High Jump and Shot Put Grand Prix Grades Open Men/Open Women Points According to IAAF Scoring Table Prize Money Overall Points from Round 1\,2 and Finals: 1st $ 200 2nd $ 150 3rd $100 4th $ 50 5th $ 25 IT IS COMPULSORY … Continue reading Athletics Fiji Grand Prix Series – Round 2 →
URL:https://athleticsfiji.com/event/suva-color-run/
LOCATION:Bowling Club\, Grahame Street\, Suva\, Fiji
END:VEVENT
BEGIN:VEVENT
DTSTART;TZID=UTC:20171021T090000
DTEND;TZID=UTC:20171021T130000
DTSTAMP:20260423T014512
CREATED:20170725T224627Z
LAST-MODIFIED:20171018T004140Z
UID:810-1508576400-1508590800@athleticsfiji.com
SUMMARY:Team Fiji Weekly Competition
DESCRIPTION:[maxbutton id="8" ] Grand Prix Events 100m\, 400m\, 800m\, 5000m\, Long Jump\, High Jump and Shot Put Grand Prix Grades Open Men/Open Women Points According to IAAF Scoring Table Prize Money Overall Points from Round 1\,2 and Finals: 1st $ 200 2nd $ 150 3rd $100 4th $ 50 5th $ 25 IT IS COMPULSORY … Continue reading Athletics Fiji Grand Prix Series – Round 2 →
URL:https://athleticsfiji.com/event/mini-spg-time-trials/
LOCATION:ANZ National Stadium\, Laucala Bay\, Suva\, Fiji
ORGANIZER;CN="Athletics Fiji":MAILTO:athleticsfiji@connect.com
END:VEVENT
BEGIN:VEVENT
DTSTART;TZID=UTC:20171011T180000
DTEND;TZID=UTC:20171011T200000
DTSTAMP:20260423T014512
CREATED:20170725T224112Z
LAST-MODIFIED:20171009T045308Z
UID:805-1507744800-1507752000@athleticsfiji.com
SUMMARY:Team Fiji Weekly Competition
DESCRIPTION:[maxbutton id="8" ] Grand Prix Events 100m\, 400m\, 800m\, 5000m\, Long Jump\, High Jump and Shot Put Grand Prix Grades Open Men/Open Women Points According to IAAF Scoring Table Prize Money Overall Points from Round 1\,2 and Finals: 1st $ 200 2nd $ 150 3rd $100 4th $ 50 5th $ 25 IT IS COMPULSORY … Continue reading Athletics Fiji Grand Prix Series – Round 2 →
URL:https://athleticsfiji.com/event/team-fiji-weekly-competition-4/
LOCATION:ANZ National Stadium\, Laucala Bay\, Suva\, Fiji
ATTACH;FMTTYPE=image/jpeg:https://athleticsfiji.com/wp-content/uploads/2017/09/21463174_628898254165906_8380169248750045437_n.jpg
ORGANIZER;CN="Athletics Fiji":MAILTO:athleticsfiji@connect.com
END:VEVENT
BEGIN:VEVENT
DTSTART;TZID=UTC:20171007T070000
DTEND;TZID=UTC:20171007T080000
DTSTAMP:20260423T014512
CREATED:20170725T224358Z
LAST-MODIFIED:20170725T224358Z
UID:807-1507359600-1507363200@athleticsfiji.com
SUMMARY:Suva Marathon 5km & 10km club runs
DESCRIPTION:[maxbutton id="8" ] Grand Prix Events 100m\, 400m\, 800m\, 5000m\, Long Jump\, High Jump and Shot Put Grand Prix Grades Open Men/Open Women Points According to IAAF Scoring Table Prize Money Overall Points from Round 1\,2 and Finals: 1st $ 200 2nd $ 150 3rd $100 4th $ 50 5th $ 25 IT IS COMPULSORY … Continue reading Athletics Fiji Grand Prix Series – Round 2 →
URL:https://athleticsfiji.com/event/suva-marathon-5km-10km-club-runs-2/
LOCATION:Bowling Club\, Grahame Street\, Suva\, Fiji
END:VEVENT
BEGIN:VEVENT
DTSTART;TZID=UTC:20170929T180000
DTEND;TZID=UTC:20170929T200000
DTSTAMP:20260423T014512
CREATED:20170725T223624Z
LAST-MODIFIED:20170927T044435Z
UID:803-1506708000-1506715200@athleticsfiji.com
SUMMARY:Shop N Save Athletics Fiji Weekly Competition
DESCRIPTION:[maxbutton id="8" ] Grand Prix Events 100m\, 400m\, 800m\, 5000m\, Long Jump\, High Jump and Shot Put Grand Prix Grades Open Men/Open Women Points According to IAAF Scoring Table Prize Money Overall Points from Round 1\,2 and Finals: 1st $ 200 2nd $ 150 3rd $100 4th $ 50 5th $ 25 IT IS COMPULSORY … Continue reading Athletics Fiji Grand Prix Series – Round 2 →
URL:https://athleticsfiji.com/event/mini-spg-team-time-trials/
LOCATION:ANZ National Stadium\, Laucala Bay\, Suva\, Fiji
ATTACH;FMTTYPE=image/jpeg:https://athleticsfiji.com/wp-content/uploads/2017/09/21557945_628898364165895_2273832017554213520_n.jpg
ORGANIZER;CN="Athletics Fiji":MAILTO:athleticsfiji@connect.com
END:VEVENT
BEGIN:VEVENT
DTSTART;TZID=UTC:20170916T170000
DTEND;TZID=UTC:20170916T220000
DTSTAMP:20260423T014512
CREATED:20170725T223218Z
LAST-MODIFIED:20170913T060712Z
UID:801-1505581200-1505599200@athleticsfiji.com
SUMMARY:3rd Mini SPG Trials
DESCRIPTION:[maxbutton id="8" ] Grand Prix Events 100m\, 400m\, 800m\, 5000m\, Long Jump\, High Jump and Shot Put Grand Prix Grades Open Men/Open Women Points According to IAAF Scoring Table Prize Money Overall Points from Round 1\,2 and Finals: 1st $ 200 2nd $ 150 3rd $100 4th $ 50 5th $ 25 IT IS COMPULSORY … Continue reading Athletics Fiji Grand Prix Series – Round 2 →
URL:https://athleticsfiji.com/event/2017-mini-spg-trials-2/
LOCATION:ANZ National Stadium\, Laucala Bay\, Suva\, Fiji
ATTACH;FMTTYPE=image/png:https://athleticsfiji.com/wp-content/uploads/2017/07/2017-Mini-Games-Logo.png
ORGANIZER;CN="Athletics Fiji":MAILTO:athleticsfiji@connect.com
END:VEVENT
BEGIN:VEVENT
DTSTART;TZID=UTC:20170908T080000
DTEND;TZID=UTC:20170909T170000
DTSTAMP:20260423T014512
CREATED:20170725T222936Z
LAST-MODIFIED:20170821T055314Z
UID:799-1504857600-1504976400@athleticsfiji.com
SUMMARY:Fiji Games
DESCRIPTION:[maxbutton id="8" ] Grand Prix Events 100m\, 400m\, 800m\, 5000m\, Long Jump\, High Jump and Shot Put Grand Prix Grades Open Men/Open Women Points According to IAAF Scoring Table Prize Money Overall Points from Round 1\,2 and Finals: 1st $ 200 2nd $ 150 3rd $100 4th $ 50 5th $ 25 IT IS COMPULSORY … Continue reading Athletics Fiji Grand Prix Series – Round 2 →
URL:https://athleticsfiji.com/event/fiji-games/
LOCATION:ANZ National Stadium\, Laucala Bay\, Suva\, Fiji
ATTACH;FMTTYPE=image/jpeg:https://athleticsfiji.com/wp-content/uploads/2017/07/Fiji-Games-Logo.jpg
ORGANIZER;CN="Athletics Fiji":MAILTO:athleticsfiji@connect.com
END:VEVENT
BEGIN:VEVENT
DTSTART;TZID=UTC:20170902T090000
DTEND;TZID=UTC:20170902T160000
DTSTAMP:20260423T014512
CREATED:20170725T222447Z
LAST-MODIFIED:20170828T004911Z
UID:795-1504342800-1504368000@athleticsfiji.com
SUMMARY:2017 Mini SPG Trials
DESCRIPTION:[maxbutton id="8" ] Grand Prix Events 100m\, 400m\, 800m\, 5000m\, Long Jump\, High Jump and Shot Put Grand Prix Grades Open Men/Open Women Points According to IAAF Scoring Table Prize Money Overall Points from Round 1\,2 and Finals: 1st $ 200 2nd $ 150 3rd $100 4th $ 50 5th $ 25 IT IS COMPULSORY … Continue reading Athletics Fiji Grand Prix Series – Round 2 →
URL:https://athleticsfiji.com/event/2017-mini-spg-trials/
LOCATION:ANZ National Stadium\, Laucala Bay\, Suva\, Fiji
ATTACH;FMTTYPE=image/jpeg:https://athleticsfiji.com/wp-content/uploads/2017/08/High-jump-bar.jpg
ORGANIZER;CN="Athletics Fiji":MAILTO:athleticsfiji@connect.com
END:VEVENT
BEGIN:VEVENT
DTSTART;TZID=UTC:20170902T070000
DTEND;TZID=UTC:20170902T080000
DTSTAMP:20260423T014512
CREATED:20170725T222031Z
LAST-MODIFIED:20170725T222031Z
UID:793-1504335600-1504339200@athleticsfiji.com
SUMMARY:Suva Marathon 5km & 10km club runs
DESCRIPTION:[maxbutton id="8" ] Grand Prix Events 100m\, 400m\, 800m\, 5000m\, Long Jump\, High Jump and Shot Put Grand Prix Grades Open Men/Open Women Points According to IAAF Scoring Table Prize Money Overall Points from Round 1\,2 and Finals: 1st $ 200 2nd $ 150 3rd $100 4th $ 50 5th $ 25 IT IS COMPULSORY … Continue reading Athletics Fiji Grand Prix Series – Round 2 →
URL:https://athleticsfiji.com/event/suva-marathon-5km-10km-club-runs/
LOCATION:Bowling Club\, Grahame Street\, Suva\, Fiji
END:VEVENT
BEGIN:VEVENT
DTSTART;TZID=UTC:20170819T090000
DTEND;TZID=UTC:20170819T120000
DTSTAMP:20260423T014512
CREATED:20170725T234601Z
LAST-MODIFIED:20170817T053918Z
UID:837-1503133200-1503144000@athleticsfiji.com
SUMMARY:Athletics Fiji Weekly Competition
DESCRIPTION:[maxbutton id="8" ] Grand Prix Events 100m\, 400m\, 800m\, 5000m\, Long Jump\, High Jump and Shot Put Grand Prix Grades Open Men/Open Women Points According to IAAF Scoring Table Prize Money Overall Points from Round 1\,2 and Finals: 1st $ 200 2nd $ 150 3rd $100 4th $ 50 5th $ 25 IT IS COMPULSORY … Continue reading Athletics Fiji Grand Prix Series – Round 2 →
URL:https://athleticsfiji.com/event/athletics-fiji-weekly-competition/
LOCATION:ANZ National Stadium\, Laucala Bay\, Suva\, Fiji
ATTACH;FMTTYPE=image/jpeg:https://athleticsfiji.com/wp-content/uploads/2017/08/Mustafa-Fall-1.jpg
ORGANIZER;CN="Athletics Fiji":MAILTO:athleticsfiji@connect.com
END:VEVENT
BEGIN:VEVENT
DTSTART;TZID=UTC:20170805T070000
DTEND;TZID=UTC:20170805T080000
DTSTAMP:20260423T014512
CREATED:20170725T221628Z
LAST-MODIFIED:20170725T230630Z
UID:789-1501916400-1501920000@athleticsfiji.com
SUMMARY:Suva Marathon 5km and 10km Club Runs
DESCRIPTION:[maxbutton id="8" ] Grand Prix Events 100m\, 400m\, 800m\, 5000m\, Long Jump\, High Jump and Shot Put Grand Prix Grades Open Men/Open Women Points According to IAAF Scoring Table Prize Money Overall Points from Round 1\,2 and Finals: 1st $ 200 2nd $ 150 3rd $100 4th $ 50 5th $ 25 IT IS COMPULSORY … Continue reading Athletics Fiji Grand Prix Series – Round 2 →
URL:https://athleticsfiji.com/event/suva-marathon-5km-and-10km-club-runs/
LOCATION:Bowling Club\, Grahame Street\, Suva\, Fiji
END:VEVENT
BEGIN:VEVENT
DTSTART;TZID=UTC:20170804T080000
DTEND;TZID=UTC:20170813T170000
DTSTAMP:20260423T014512
CREATED:20170725T205403Z
LAST-MODIFIED:20170725T205403Z
UID:785-1501833600-1502643600@athleticsfiji.com
SUMMARY:2017 IAAF World Championships
DESCRIPTION:[maxbutton id="8" ] Grand Prix Events 100m\, 400m\, 800m\, 5000m\, Long Jump\, High Jump and Shot Put Grand Prix Grades Open Men/Open Women Points According to IAAF Scoring Table Prize Money Overall Points from Round 1\,2 and Finals: 1st $ 200 2nd $ 150 3rd $100 4th $ 50 5th $ 25 IT IS COMPULSORY … Continue reading Athletics Fiji Grand Prix Series – Round 2 →
URL:https://athleticsfiji.com/event/2017-iaaf-world-championships/
LOCATION:London Stadium\, Queen Elizabeth Olympic Park\, London\, United Kingdom
END:VEVENT
END:VCALENDAR