BEGIN:VCALENDAR
VERSION:2.0
PRODID:-//Athletics Fiji - ECPv6.15.20//NONSGML v1.0//EN
CALSCALE:GREGORIAN
METHOD:PUBLISH
X-WR-CALNAME:Athletics Fiji
X-ORIGINAL-URL:https://athleticsfiji.com
X-WR-CALDESC:Events for Athletics Fiji
REFRESH-INTERVAL;VALUE=DURATION:PT1H
X-Robots-Tag:noindex
X-PUBLISHED-TTL:PT1H
BEGIN:VTIMEZONE
TZID:UTC
BEGIN:STANDARD
TZOFFSETFROM:+0000
TZOFFSETTO:+0000
TZNAME:UTC
DTSTART:20160101T000000
END:STANDARD
END:VTIMEZONE
BEGIN:VEVENT
DTSTART;TZID=UTC:20170804T080000
DTEND;TZID=UTC:20170813T170000
DTSTAMP:20260424T083336
CREATED:20170725T205403Z
LAST-MODIFIED:20170725T205403Z
UID:785-1501833600-1502643600@athleticsfiji.com
SUMMARY:2017 IAAF World Championships
DESCRIPTION:Competition program TBC...
URL:https://athleticsfiji.com/event/2017-iaaf-world-championships/
LOCATION:London Stadium\, Queen Elizabeth Olympic Park\, London\, United Kingdom
END:VEVENT
END:VCALENDAR