BEGIN:VCALENDAR
VERSION:2.0
PRODID:-//Athletics Fiji - ECPv6.15.20//NONSGML v1.0//EN
CALSCALE:GREGORIAN
METHOD:PUBLISH
X-ORIGINAL-URL:https://athleticsfiji.com
X-WR-CALDESC:Events for Athletics Fiji
REFRESH-INTERVAL;VALUE=DURATION:PT1H
X-Robots-Tag:noindex
X-PUBLISHED-TTL:PT1H
BEGIN:VTIMEZONE
TZID:UTC
BEGIN:STANDARD
TZOFFSETFROM:+0000
TZOFFSETTO:+0000
TZNAME:UTC
DTSTART:20200101T000000
END:STANDARD
END:VTIMEZONE
BEGIN:VEVENT
DTSTART;VALUE=DATE:20210817
DTEND;VALUE=DATE:20210823
DTSTAMP:20260424T155239
CREATED:20210214T071201Z
LAST-MODIFIED:20210214T071201Z
UID:9238-1629158400-1629676799@athleticsfiji.com
SUMMARY:WORLD ATHLETICS UNDER 20 CHAMPIONSHIPS
DESCRIPTION:Details TBC
URL:https://athleticsfiji.com/event/world-athletics-under-20-championships/
LOCATION:Nairobi\, Kenya
CATEGORIES:International Competition
ATTACH;FMTTYPE=image/jpeg:https://athleticsfiji.com/wp-content/uploads/2021/02/World-Athletics-U20-Championships-Nairobi-2020-logo.jpg
END:VEVENT
END:VCALENDAR