BEGIN:VCALENDAR
VERSION:2.0
PRODID:-//Athletics Fiji - ECPv6.15.20//NONSGML v1.0//EN
CALSCALE:GREGORIAN
METHOD:PUBLISH
X-ORIGINAL-URL:https://athleticsfiji.com
X-WR-CALDESC:Events for Athletics Fiji
REFRESH-INTERVAL;VALUE=DURATION:PT1H
X-Robots-Tag:noindex
X-PUBLISHED-TTL:PT1H
BEGIN:VTIMEZONE
TZID:UTC
BEGIN:STANDARD
TZOFFSETFROM:+0000
TZOFFSETTO:+0000
TZNAME:UTC
DTSTART:20180101T000000
END:STANDARD
END:VTIMEZONE
BEGIN:VEVENT
DTSTART;VALUE=DATE:20191221
DTEND;VALUE=DATE:20191222
DTSTAMP:20260424T190016
CREATED:20191014T212705Z
LAST-MODIFIED:20191014T212705Z
UID:6676-1576886400-1576972799@athleticsfiji.com
SUMMARY:Athletics Fiji Weekly Competition
DESCRIPTION:Details TBC
URL:https://athleticsfiji.com/event/athletics-fiji-weekly-competition-10/
LOCATION:ANZ National Stadium\, Laucala Bay\, Suva\, Fiji
CATEGORIES:Local Competition
ATTACH;FMTTYPE=image/jpeg:https://athleticsfiji.com/wp-content/uploads/2017/07/AF-Logo.jpg
ORGANIZER;CN="Athletics Fiji":MAILTO:athleticsfiji@connect.com
END:VEVENT
END:VCALENDAR