BEGIN:VCALENDAR
VERSION:2.0
PRODID:-//Athletics Fiji - ECPv6.15.20//NONSGML v1.0//EN
CALSCALE:GREGORIAN
METHOD:PUBLISH
X-WR-CALNAME:Athletics Fiji
X-ORIGINAL-URL:https://athleticsfiji.com
X-WR-CALDESC:Events for Athletics Fiji
REFRESH-INTERVAL;VALUE=DURATION:PT1H
X-Robots-Tag:noindex
X-PUBLISHED-TTL:PT1H
BEGIN:VTIMEZONE
TZID:UTC
BEGIN:STANDARD
TZOFFSETFROM:+0000
TZOFFSETTO:+0000
TZNAME:UTC
DTSTART:20180101T000000
END:STANDARD
END:VTIMEZONE
BEGIN:VEVENT
DTSTART;TZID=UTC:20190928T080000
DTEND;TZID=UTC:20191006T170000
DTSTAMP:20260424T112917
CREATED:20180524T000821Z
LAST-MODIFIED:20180524T000821Z
UID:2782-1569657600-1570381200@athleticsfiji.com
SUMMARY:IAAF World Athletics Championships
DESCRIPTION:Details TBC
URL:https://athleticsfiji.com/event/iaaf-world-athletics-championships/
LOCATION:Doha\, Doha\, Qatar
ATTACH;FMTTYPE=image/jpeg:https://athleticsfiji.com/wp-content/uploads/2017/07/Younis-SPG.jpg
END:VEVENT
END:VCALENDAR