BEGIN:VCALENDAR
VERSION:2.0
PRODID:-//Athletics Fiji - ECPv6.15.20//NONSGML v1.0//EN
CALSCALE:GREGORIAN
METHOD:PUBLISH
X-WR-CALNAME:Athletics Fiji
X-ORIGINAL-URL:https://athleticsfiji.com
X-WR-CALDESC:Events for Athletics Fiji
REFRESH-INTERVAL;VALUE=DURATION:PT1H
X-Robots-Tag:noindex
X-PUBLISHED-TTL:PT1H
BEGIN:VTIMEZONE
TZID:UTC
BEGIN:STANDARD
TZOFFSETFROM:+0000
TZOFFSETTO:+0000
TZNAME:UTC
DTSTART:20180101T000000
END:STANDARD
END:VTIMEZONE
BEGIN:VEVENT
DTSTART;TZID=UTC:20190416T080000
DTEND;TZID=UTC:20190418T170000
DTSTAMP:20260424T140928
CREATED:20180524T002322Z
LAST-MODIFIED:20190114T204155Z
UID:2797-1555401600-1555606800@athleticsfiji.com
SUMMARY:Coca Cola Games
DESCRIPTION:Details TBC
URL:https://athleticsfiji.com/event/coca-cola-games/
LOCATION:ANZ National Stadium\, Laucala Bay\, Suva\, Fiji
ATTACH;FMTTYPE=image/jpeg:https://athleticsfiji.com/wp-content/uploads/2018/04/Overall-Winner-Boys-Division.jpg
END:VEVENT
END:VCALENDAR